BEGIN:VCALENDAR
VERSION:2.0
PRODID:icalendar-ruby
CALSCALE:GREGORIAN
METHOD:PUBLISH
BEGIN:VEVENT
DTSTAMP:20260422T140200Z
UID:31-400345@buildingonjesus.org
DTSTART:20260514T190000Z
DTEND:20260514T203000Z
CLASS:PUBLIC
CREATED:20260421T100800
DESCRIPTION:Join us for our May Silver Servants Potluck\, May 14th 2026!
LAST-MODIFIED:20260421T100800
LOCATION:His Place
SUMMARY:Silver Servants Potluck
URL;VALUE=URI:https://buildingonjesus.org/events/silver-servants-potluck--3
 1/2026-05-14
ATTACH;FILENAME=Silver-Servants-Potluck-May.png;FMTTYPE=image/png:https://d
 q5pwpg1q8ru0.cloudfront.net/2026/04/21/17/07/59/42017658-f206-4875-9db0-c1
 3063c8bb54/Silver-Servants-Potluck-May.png
END:VEVENT
END:VCALENDAR
